BEGIN:VCALENDAR
VERSION:2.0
PRODID:-//Outreach International Writers, inc. - ECPv6.15.20//NONSGML v1.0//EN
CALSCALE:GREGORIAN
METHOD:PUBLISH
X-WR-CALNAME:Outreach International Writers, inc.
X-ORIGINAL-URL:https://oiwi.org
X-WR-CALDESC:Events for Outreach International Writers, inc.
REFRESH-INTERVAL;VALUE=DURATION:PT1H
X-Robots-Tag:noindex
X-PUBLISHED-TTL:PT1H
BEGIN:VTIMEZONE
TZID:America/New_York
BEGIN:DAYLIGHT
TZOFFSETFROM:-0500
TZOFFSETTO:-0400
TZNAME:EDT
DTSTART:20250309T070000
END:DAYLIGHT
BEGIN:STANDARD
TZOFFSETFROM:-0400
TZOFFSETTO:-0500
TZNAME:EST
DTSTART:20251102T060000
END:STANDARD
BEGIN:DAYLIGHT
TZOFFSETFROM:-0500
TZOFFSETTO:-0400
TZNAME:EDT
DTSTART:20260308T070000
END:DAYLIGHT
BEGIN:STANDARD
TZOFFSETFROM:-0400
TZOFFSETTO:-0500
TZNAME:EST
DTSTART:20261101T060000
END:STANDARD
BEGIN:DAYLIGHT
TZOFFSETFROM:-0500
TZOFFSETTO:-0400
TZNAME:EDT
DTSTART:20270314T070000
END:DAYLIGHT
BEGIN:STANDARD
TZOFFSETFROM:-0400
TZOFFSETTO:-0500
TZNAME:EST
DTSTART:20271107T060000
END:STANDARD
END:VTIMEZONE
BEGIN:VEVENT
DTSTART;TZID=America/New_York:20260312T190000
DTEND;TZID=America/New_York:20260312T200000
DTSTAMP:20260423T150402
CREATED:20260309T050620Z
LAST-MODIFIED:20260309T072458Z
UID:28926-1773342000-1773345600@oiwi.org
SUMMARY:Self Editing: Mary's Handy Dandy List of 4 Big Errors and How to Fix Them - Mary Marvella
DESCRIPTION:Description: \nThis FREE workshop will be held live on Zoom on March 12 from 7:00–8:00 PM Eastern.The Zoom link will be sent to registered participants before the workshop begins. \nThis isn’t the grammar class\, so let’s be prepared to look at general mistakes authors make. \n  \nRegister for this FREE Workshop \nInstructor Bio: \nMary has been a story teller since she could talk. As a child\, Mary made the “Let’s Pretend” games. Now she and her characters play that same game\, but her characters insist their stories are real. She taught Language Arts/English for 15 years and began writing books when she retired. She is Georgia bred and Georgia raised and wouldn’t live anywhere else. The times she tried she missed her southern roots. Mary’s daughter is her best project! \nMary aims at readers’ heart strings and loves to tease with sensuous scenes. Mary edits for freelance clients.  She Indie published 10 novels\, a collection of Christmas stories\, and a grammar book. \nTeaching online classes and giving workshops makes Mary’s inner teacher happy. Helping folks take their ideas and turn them into books pleases Mary’s inner writer and her inner teacher. For the past 10 years\, Mary has edited both memoirs and how-to books. \nMary has presented workshops with HHRW\, OIWI/Outreach International\, FF&P\, Savvy Authors\, A2P\, Walton Writers\, and for East Metro Atlanta Christian Writers\, Moonlight & Magnolias conference\, and The Southern Pen Indie Conference. \nAs a freelance editor\, Mary has edited more than 80 books in different genres\, including detective novels\, memoirs\, and how-to books.
URL:https://oiwi.org/workshop/self-editing-marys-handy-dandy-list-of-4-big-errors-and-how-to-fix-them-mary-marvella-2/
CATEGORIES:Workshops
ATTACH;FMTTYPE=image/jpeg:https://oiwi.org/wp-content/uploads/2024/05/Depositphotos_152508678_L.jpg
ORGANIZER;CN="Director of Education & Campus Services":MAILTO:karenmcatlinoiwi@gmail.com
LOCATION:https://oiwi.org/workshop/self-editing-marys-handy-dandy-list-of-4-big-errors-and-how-to-fix-them-mary-marvella-2/
END:VEVENT
END:VCALENDAR